BEGIN:VCALENDAR
VERSION:2.0
PRODID:-//Squarespace Inc/Squarespace 6//v6//EN
BEGIN:VEVENT
UID:5d49f73ea0e2c4000145eb62@squarespace.com
DTSTAMP:20190812T002941Z
DTSTART:20200117T210000Z
DTEND:20200118T040000Z
SUMMARY:Wellington Cup -  Wellington
GEO:-41.137823;175.0393
LOCATION:Trentham Racecourse\, Racecourse Road\, Upper Hutt\, Wellington\, 
 5018\, New Zealand
END:VEVENT
END:VCALENDAR
