BEGIN:VCALENDAR
VERSION:2.0
PRODID:-//Squarespace Inc/Squarespace 6//v6//EN
BEGIN:VEVENT
UID:5ddcf5525957c152ac26f59c@squarespace.com
DTSTAMP:20191126T095648Z
DTSTART:20200110T230000Z
DTEND:20200111T040000Z
SUMMARY:The Kumara Races  
GEO:-42.616448;171.168695
LOCATION:Kumara Racecourse\, 447 Otira Hwy\, Kumara\, West Coast\, 7832\, N
 ew Zealand
END:VEVENT
END:VCALENDAR
