BEGIN:VCALENDAR
VERSION:2.0
PRODID:-//Squarespace Inc/Squarespace 6//v6//EN
BEGIN:VEVENT
UID:5d96918f0ff08444091d0308@squarespace.com
DTSTAMP:20191004T003024Z
DTSTART:20200327T230000Z
DTEND:20200328T040000Z
SUMMARY:Sires Day - Awapuni
GEO:-40.377031;175.579456
LOCATION:Awapuni Racecourse\, Racecourse Road\, Palmerston North\, Manawatu
 -Wanganui\, 4412\, New Zealand
END:VEVENT
END:VCALENDAR
