BEGIN:VCALENDAR
VERSION:2.0
PRODID:-//Squarespace Inc/Squarespace 6//v6//EN
BEGIN:VEVENT
UID:5d1ab7e3a131aa0001c45633@squarespace.com
DTSTAMP:20190725T024842Z
DTSTART:20190810T000000Z
DTEND:20190810T023000Z
SUMMARY:Grand National - Riccarton Park Racecourse
GEO:-43.532018;172.544341
LOCATION:Riccarton Park Racecourse\, 165 Racecourse Road\, Christchurch\, C
 anterbury\, 8042\, New Zealand
END:VEVENT
END:VCALENDAR
