BEGIN:VCALENDAR
VERSION:2.0
PRODID:-//Squarespace Inc/Squarespace 6//v6//EN
BEGIN:VEVENT
UID:5d95bef080d6fc48ac9eb5f4@squarespace.com
DTSTAMP:20191003T092946Z
DTSTART:20200320T230000Z
DTEND:20200321T040000Z
SUMMARY:Premier Raceday - Tauranga
GEO:-37.728208;176.130486
LOCATION:Tauranga Racecourse\, 1383 Cameron Road\, Tauranga\, Bay Of Plenty
 \, 3112\, New Zealand
END:VEVENT
END:VCALENDAR
