BEGIN:VCALENDAR
VERSION:2.0
PRODID:-//Squarespace Inc/Squarespace 6//v6//EN
BEGIN:VEVENT
UID:5d49f7345df26e0001735149@squarespace.com
DTSTAMP:20191003T092047Z
DTSTART:20200221T210000Z
DTEND:20200222T040000Z
SUMMARY:Premier Raceday - Matamata
GEO:-37.833351;175.767633
LOCATION:Matamata Racecourse\, 7555 State Highway 27\, Matamata\, Waikato\, 
 3473\, New Zealand
END:VEVENT
END:VCALENDAR
