BEGIN:VCALENDAR
VERSION:2.0
PRODID:-//Squarespace Inc/Squarespace 6//v6//EN
BEGIN:VEVENT
UID:5d1d2f8ea88db8000106a612@squarespace.com
DTSTAMP:20190812T013050Z
DTSTART:20191111T220000Z
DTEND:20191112T040000Z
SUMMARY:NZ Trotting Cup - Christchurch
GEO:-43.545086;172.603514
LOCATION:Addington Raceway\, 75 Jack Hinton Drive\, Christchurch\, Canterbu
 ry\, 8024\, New Zealand
END:VEVENT
END:VCALENDAR
