BEGIN:VCALENDAR
VERSION:2.0
PRODID:-//Squarespace Inc/Squarespace 6//v6//EN
BEGIN:VEVENT
UID:5db6b7857161a11f1873bce8@squarespace.com
DTSTAMP:20191028T094249Z
DTSTART:20191104T230000Z
DTEND:20191105T040000Z
SUMMARY:Melbourne Cup Day - Otago Racing Club
GEO:-45.874021;170.389042
LOCATION:Otago Racing Club\, 285 Gladstone Road North\, Mosgiel\, OTA\, 909
 2\, New Zealand
END:VEVENT
END:VCALENDAR
