BEGIN:VCALENDAR
VERSION:2.0
PRODID:-//Squarespace Inc/Squarespace 6//v6//EN
BEGIN:VEVENT
UID:5d1bf7fbb9f400000140a706@squarespace.com
DTSTAMP:20190812T002824Z
DTSTART:20191104T230000Z
DTEND:20191105T050000Z
SUMMARY:Melbourne Cup Day - Auckland
GEO:-36.890085;174.802531
LOCATION:Auckland Racing Club | Ellerslie Racecourse\, 100 Ascot Avenue\, A
 uckland\, Auckland\, 1051\, New Zealand
END:VEVENT
END:VCALENDAR
