BEGIN:VCALENDAR
VERSION:2.0
PRODID:-//Squarespace Inc/Squarespace 6//v6//EN
BEGIN:VEVENT
UID:5d1bf3eff8ff4d0001f31015@squarespace.com
DTSTAMP:20190812T002809Z
DTSTART:20191004T220000Z
DTEND:20191005T050000Z
SUMMARY: Livamol Classic - Hawkes Bay
GEO:-39.643216;176.835415
LOCATION: Hawkes Bay Racing Club\, 300 Prospect Road\, Hastings\, Hawke's B
 ay\, 4120\, New Zealand
END:VEVENT
END:VCALENDAR
