BEGIN:VCALENDAR
VERSION:2.0
PRODID:-//Squarespace Inc/Squarespace 6//v6//EN
BEGIN:VEVENT
UID:5ddcf73c0bedbb4a43b4887a@squarespace.com
DTSTAMP:20191126T100117Z
DTSTART:20191213T230000Z
DTEND:20191214T040000Z
SUMMARY:Waikato Cup\, Te Rapa\, Hamilton
GEO:-37.765577;175.250244
LOCATION:Te Rapa Racecourse\, Ken Browne Drive\, Hamilton\, Waikato\, 3200\
 , New Zealand
END:VEVENT
END:VCALENDAR
