BEGIN:VCALENDAR
VERSION:2.0
PRODID:-//Squarespace Inc/Squarespace 6//v6//EN
BEGIN:VEVENT
UID:5d1aba8bb9d25400016c71c1@squarespace.com
DTSTAMP:20190702T021700Z
DTSTART:20190811T020000Z
DTEND:20190811T050000Z
SUMMARY:Harness Meeting - Rangiora Harness Racing Club
GEO:-43.294575;172.562752
LOCATION:Rangiora Harness Racing Club\, 312 Lehmans Road\, Fernside\, Cante
 rbury\, 7471\, New Zealand
END:VEVENT
END:VCALENDAR
