BEGIN:VCALENDAR
VERSION:2.0
PRODID:-//Squarespace Inc/Squarespace 6//v6//EN
BEGIN:VEVENT
UID:5d95bbb036e1ee4ab3d429a2@squarespace.com
DTSTAMP:20191003T091948Z
DTSTART:20191229T230000Z
DTEND:20191230T040000Z
SUMMARY:Goldfields Glamour - Reefton Trotting Club
GEO:-42.1178;171.857697
LOCATION:Reefton Trotting Club\, 7830 Racecourse Road\, Reefton\, West Coas
 t\, 7830\, New Zealand
END:VEVENT
END:VCALENDAR
