BEGIN:VCALENDAR
VERSION:2.0
PRODID:-//Squarespace Inc/Squarespace 6//v6//EN
BEGIN:VEVENT
UID:5d95b6a784c55443c935561d@squarespace.com
DTSTAMP:20191003T093112Z
DTSTART:20200228T230000Z
DTEND:20200229T040000Z
SUMMARY:Derby Day - Auckland
GEO:-36.890085;174.802531
LOCATION:Ellerslie Racing Club\, 100 Ascot Avenue\, Auckland\, Auckland\, 1
 051\, New Zealand
END:VEVENT
END:VCALENDAR
