BEGIN:VCALENDAR
VERSION:2.0
PRODID:-//Squarespace Inc/Squarespace 6//v6//EN
BEGIN:VEVENT
UID:5d1d31e3c8be150001617d44@squarespace.com
DTSTAMP:20190812T013134Z
DTSTART:20191122T220000Z
DTEND:20191123T040000Z
SUMMARY:Counties Cup - Pukekohe
GEO:-37.213991;174.91125
LOCATION:Pukekohe Park\, 222 -250 Manukau Road\,\, Pukekohe\, New Zealand
END:VEVENT
END:VCALENDAR
