BEGIN:VCALENDAR
VERSION:2.0
PRODID:-//Squarespace Inc/Squarespace 6//v6//EN
BEGIN:VEVENT
UID:5d1d30df159cbd0001f27ecf@squarespace.com
DTSTAMP:20191003T091516Z
DTSTART:20191115T220000Z
DTEND:20191116T040000Z
SUMMARY:Cup &amp\; Show Week - Christchurch
GEO:-43.532018;172.544341
LOCATION:Riccarton Park\, 165 Racecourse Road\, Christchurch\, Canterbury\, 
 8042\, New Zealand
END:VEVENT
END:VCALENDAR
