BEGIN:VCALENDAR
VERSION:2.0
PRODID:-//Squarespace Inc/Squarespace 6//v6//EN
BEGIN:VEVENT
UID:5d1d33b9f696cd0001c4cbee@squarespace.com
DTSTAMP:20190812T013152Z
DTSTART:20191225T220000Z
DTEND:20191226T040000Z
SUMMARY:Boxing Day Races - Auckland
GEO:-36.890085;174.802531
LOCATION:Auckland Racing Club\, 100 Ascot Avenue\, Auckland\, Auckland\, 10
 51\, New Zealand
END:VEVENT
END:VCALENDAR
