BEGIN:VCALENDAR
VERSION:2.0
PRODID:-//Squarespace Inc/Squarespace 6//v6//EN
BEGIN:VEVENT
UID:5db0357b738af132be2b4ffe@squarespace.com
DTSTAMP:20191023T111818Z
DTSTART:20191213T230000Z
DTEND:20191214T040000Z
SUMMARY:Ascot Park Christmas at the Races
GEO:-46.395263;168.387853
LOCATION:Ascot Park Racecourse\, Racecourse Road\, Invercargill\, Southland
 \, 9810\, New Zealand
END:VEVENT
END:VCALENDAR
